BEGIN:VCALENDAR
VERSION:2.0
PRODID:icalendar-ruby
CALSCALE:GREGORIAN
METHOD:PUBLISH
BEGIN:VEVENT
DTSTAMP:20260421T090112Z
UID:5-400717@drivingdisciples.org
DTSTART:20260329T170000Z
DTEND:20260329T180000Z
CLASS:PUBLIC
CREATED:20260420T171509
DESCRIPTION:Sunday Worship
LAST-MODIFIED:20260420T171509
LOCATION:
SUMMARY:Sunday Worship
URL;VALUE=URI:https://www.drivingdisciples.org/events/sunday-worship/2026-0
 3-29
END:VEVENT
END:VCALENDAR
